BEGIN:VCALENDAR
VERSION:2.0
PRODID:-//https://mp.ks.gov.ba//NONSGML iCalcreator 2.41.92//
CALSCALE:GREGORIAN
METHOD:PUBLISH
UID:34313466-6163-4336-a561-363262633463
X-WR-RELCALID:node-7489-field_period
X-WR-TIMEZONE:Europe/Sarajevo
X-WR-CALNAME:Bosnia Halal Festival
BEGIN:VTIMEZONE
TZID:Europe/Sarajevo
TZUNTIL:20280326T010000Z
BEGIN:STANDARD
TZNAME:CET
DTSTART:20251026T030000
TZOFFSETFROM:+0200
TZOFFSETTO:+0100
RDATE:20261025T030000
RDATE:20271031T030000
END:STANDARD
BEGIN:DAYLIGHT
TZNAME:CEST
DTSTART:20260329T020000
TZOFFSETFROM:+0100
TZOFFSETTO:+0200
RDATE:20270328T020000
END:DAYLIGHT
END:VTIMEZONE
BEGIN:VEVENT
UID:31376630-6634-4132-a264-336637346362
DTSTAMP:20260423T133957Z
CLASS:PUBLIC
CREATED:20260220T093723Z
DESCRIPTION:<p>Bosnia Halal Festival je događaj usmjeren na promociju halal
  industrije i proizvoda. Projekat uključuje sajamski i promotivni dio. Rea
 lizacijom događaja doprinosi se razvoju halal industrije i izvoznog potenc
 ijala privrede Kantona Sarajevo.</p>
DTSTART;VALUE=DATE:20260816
DTEND;VALUE=DATE:20260819
LAST-MODIFIED:20260220T093804Z
SUMMARY:Bosnia Halal Festival je događaj usmjeren na promociju halal indust
 rije i proizvoda. Projekat uključuje sajamski i promotivni dio. Realizacij
 om događaja doprinosi se razvoju halal industrije i izvoznog potencijala p
 rivrede Kantona Sarajevo.
TRANSP:OPAQUE
BEGIN:VALARM
UID:62333135-3933-4463-b531-306163653864
ACTION:DISPLAY
DESCRIPTION:<p>Bosnia Halal Festival je događaj usmjeren na promociju halal
  industrije i proizvoda. Projekat uključuje sajamski i promotivni dio. Rea
 lizacijom događaja doprinosi se razvoju halal industrije i izvoznog potenc
 ijala privrede Kantona Sarajevo.</p>
DURATION:P312Y1M
REPEAT:2
TRIGGER:-P5DT4H49M
END:VALARM
END:VEVENT
END:VCALENDAR
