BEGIN:VCALENDAR
VERSION:2.0
PRODID:-//https://mp.ks.gov.ba//NONSGML iCalcreator 2.41.92//
CALSCALE:GREGORIAN
METHOD:PUBLISH
UID:61666335-3230-4664-b433-353737613163
X-WR-RELCALID:node-7488-field_period
X-WR-TIMEZONE:Europe/Sarajevo
X-WR-CALNAME:Art Market
BEGIN:VTIMEZONE
TZID:Europe/Sarajevo
TZUNTIL:20280326T010000Z
BEGIN:STANDARD
TZNAME:CET
DTSTART:20251026T030000
TZOFFSETFROM:+0200
TZOFFSETTO:+0100
RDATE:20261025T030000
RDATE:20271031T030000
END:STANDARD
BEGIN:DAYLIGHT
TZNAME:CEST
DTSTART:20260329T020000
TZOFFSETFROM:+0100
TZOFFSETTO:+0200
RDATE:20270328T020000
END:DAYLIGHT
END:VTIMEZONE
BEGIN:VEVENT
UID:65396438-6434-4763-a639-313039613738
DTSTAMP:20260423T133957Z
CLASS:PUBLIC
CREATED:20260220T092423Z
DESCRIPTION:<p>Art Market je prodajno-promotivni događaj usmjeren na promoc
 iju kreativnih proizvoda i malih proizvođača. Projekat uključuje izložbeni
  i prodajni dio. Realizacijom događaja doprinosi se razvoju kreativne ekon
 omije i jačanju malih biznisa u Kantonu Sarajevo.</p>
DTSTART;VALUE=DATE:20260613
DTEND;VALUE=DATE:20260614
LAST-MODIFIED:20260220T092423Z
SUMMARY:Art Market je prodajno-promotivni događaj usmjeren na promociju kre
 ativnih proizvoda i malih proizvođača. Projekat uključuje izložbeni i prod
 ajni dio. Realizacijom događaja doprinosi se razvoju kreativne ekonomije i
  jačanju malih biznisa u Kantonu Sarajevo.
TRANSP:OPAQUE
BEGIN:VALARM
UID:30323136-3831-4133-b266-316566316232
ACTION:DISPLAY
DESCRIPTION:<p>Art Market je prodajno-promotivni događaj usmjeren na promoc
 iju kreativnih proizvoda i malih proizvođača. Projekat uključuje izložbeni
  i prodajni dio. Realizacijom događaja doprinosi se razvoju kreativne ekon
 omije i jačanju malih biznisa u Kantonu Sarajevo.</p>
DURATION:P312Y
REPEAT:2
TRIGGER:-P5DT4H48M
END:VALARM
END:VEVENT
END:VCALENDAR
