BEGIN:VCALENDAR
VERSION:2.0
PRODID:-//https://mp.ks.gov.ba//NONSGML iCalcreator 2.41.92//
CALSCALE:GREGORIAN
METHOD:PUBLISH
UID:33643730-3561-4235-a538-396134383264
X-WR-RELCALID:node-7486-field_period
X-WR-TIMEZONE:Europe/Sarajevo
X-WR-CALNAME:Konferencija banjski turizam BiH
BEGIN:VTIMEZONE
TZID:Europe/Sarajevo
TZUNTIL:20280326T010000Z
BEGIN:STANDARD
TZNAME:CET
DTSTART:20251026T030000
TZOFFSETFROM:+0200
TZOFFSETTO:+0100
RDATE:20261025T030000
RDATE:20271031T030000
END:STANDARD
BEGIN:DAYLIGHT
TZNAME:CEST
DTSTART:20260329T020000
TZOFFSETFROM:+0100
TZOFFSETTO:+0200
RDATE:20270328T020000
END:DAYLIGHT
END:VTIMEZONE
BEGIN:VEVENT
UID:66326434-6234-4135-b561-653938646134
DTSTAMP:20260423T133957Z
CLASS:PUBLIC
CREATED:20260220T091911Z
DESCRIPTION:<p>Konferencija banjskog turizma je stručni događaj koji okuplj
 a predstavnike turističkog sektora i zdravstvenog turizma. Program uključu
 je prezentacije i stručne diskusije. Realizacijom konferencije doprinosi s
 e razvoju turističkog sektora i promociji zdravstvenog turizma u Kantonu S
 arajevo.</p>
DTSTART;VALUE=DATE:20260610
DTEND;VALUE=DATE:20260612
LAST-MODIFIED:20260220T091911Z
SUMMARY:Konferencija banjskog turizma je stručni događaj koji okuplja preds
 tavnike turističkog sektora i zdravstvenog turizma. Program uključuje prez
 entacije i stručne diskusije. Realizacijom konferencije doprinosi se razvo
 ju turističkog sektora i promociji zdravstvenog turizma u Kantonu Sarajevo
 .
TRANSP:OPAQUE
BEGIN:VALARM
UID:64613263-3063-4064-b036-333461333931
ACTION:DISPLAY
DESCRIPTION:<p>Konferencija banjskog turizma je stručni događaj koji okuplj
 a predstavnike turističkog sektora i zdravstvenog turizma. Program uključu
 je prezentacije i stručne diskusije. Realizacijom konferencije doprinosi s
 e razvoju turističkog sektora i promociji zdravstvenog turizma u Kantonu S
 arajevo.</p>
DURATION:P311Y11M
REPEAT:2
TRIGGER:-P5DT4H46M
END:VALARM
END:VEVENT
END:VCALENDAR
