BEGIN:VCALENDAR
VERSION:2.0
PRODID:-//https://mp.ks.gov.ba//NONSGML iCalcreator 2.41.92//
CALSCALE:GREGORIAN
METHOD:PUBLISH
UID:65383366-6337-4331-a131-613130343138
X-WR-RELCALID:node-7485-field_period
X-WR-TIMEZONE:Europe/Sarajevo
X-WR-CALNAME:Deseta GS1 Konferencija
BEGIN:VTIMEZONE
TZID:Europe/Sarajevo
TZUNTIL:20280326T010000Z
BEGIN:STANDARD
TZNAME:CET
DTSTART:20251026T030000
TZOFFSETFROM:+0200
TZOFFSETTO:+0100
RDATE:20261025T030000
RDATE:20271031T030000
END:STANDARD
BEGIN:DAYLIGHT
TZNAME:CEST
DTSTART:20260329T020000
TZOFFSETFROM:+0100
TZOFFSETTO:+0200
RDATE:20270328T020000
END:DAYLIGHT
END:VTIMEZONE
BEGIN:VEVENT
UID:64653430-3336-4862-b266-383030396434
DTSTAMP:20260423T120537Z
CLASS:PUBLIC
CREATED:20260220T091641Z
DESCRIPTION:<p>GS1 konferencija je poslovni događaj koji okuplja predstavni
 ke privrede\, trgovine i logistike. Program uključuje stručna predavanja\,
  prezentacije i razmjenu iskustava u oblasti standardizacije poslovanja. R
 ealizacijom konferencije doprinosi se unapređenju poslovnih procesa\, logi
 stike i konkurentnosti privrede Kantona Sarajevo.</p>
DTSTART;VALUE=DATE:20260915
DTEND;VALUE=DATE:20260916
LAST-MODIFIED:20260220T091641Z
SUMMARY:GS1 konferencija je poslovni događaj koji okuplja predstavnike priv
 rede\, trgovine i logistike. Program uključuje stručna predavanja\, prezen
 tacije i razmjenu iskustava u oblasti standardizacije poslovanja. Realizac
 ijom konferencije doprinosi se unapređenju poslovnih procesa\, logistike i
  konkurentnosti privrede Kantona Sarajevo.
TRANSP:OPAQUE
BEGIN:VALARM
UID:30643966-6633-4635-a236-316330633464
ACTION:DISPLAY
DESCRIPTION:<p>GS1 konferencija je poslovni događaj koji okuplja predstavni
 ke privrede\, trgovine i logistike. Program uključuje stručna predavanja\,
  prezentacije i razmjenu iskustava u oblasti standardizacije poslovanja. R
 ealizacijom konferencije doprinosi se unapređenju poslovnih procesa\, logi
 stike i konkurentnosti privrede Kantona Sarajevo.</p>
DURATION:P311Y11M
REPEAT:2
TRIGGER:-P5DT4H45M
END:VALARM
END:VEVENT
END:VCALENDAR
