BEGIN:VCALENDAR
VERSION:2.0
PRODID:-//https://mp.ks.gov.ba//NONSGML iCalcreator 2.41.92//
CALSCALE:GREGORIAN
METHOD:PUBLISH
UID:31626135-3430-4639-a132-303435376434
X-WR-RELCALID:node-7484-field_period
X-WR-TIMEZONE:Europe/Sarajevo
X-WR-CALNAME:Obilježavanje 130 godina gradske infrastrukture
BEGIN:VTIMEZONE
TZID:Europe/Sarajevo
TZUNTIL:20271031T010000Z
BEGIN:STANDARD
TZNAME:CET
DTSTART:20251026T030000
TZOFFSETFROM:+0200
TZOFFSETTO:+0100
RDATE:20261025T030000
END:STANDARD
BEGIN:DAYLIGHT
TZNAME:CEST
DTSTART:20260329T020000
TZOFFSETFROM:+0100
TZOFFSETTO:+0200
RDATE:20270328T020000
END:DAYLIGHT
END:VTIMEZONE
BEGIN:VEVENT
UID:64373238-3536-4635-a262-613030643063
DTSTAMP:20260423T000618Z
CLASS:PUBLIC
CREATED:20260220T091028Z
DESCRIPTION:<p>Projekat obilježavanja 130 godina gradske infrastrukture ukl
 jučuje promotivne i edukativne aktivnosti vezane za razvoj gradskih sistem
 a. Projekat uključuje prezentacije\, javne događaje i promotivne aktivnost
 i. Realizacijom projekta doprinosi se promociji razvoja urbanih sistema i 
 turističke ponude Kantona Sarajevo.</p>
DTSTART;VALUE=DATE:20260419
DTEND;VALUE=DATE:20260605
LAST-MODIFIED:20260220T091028Z
SUMMARY:Projekat obilježavanja 130 godina gradske infrastrukture uključuje 
 promotivne i edukativne aktivnosti vezane za razvoj gradskih sistema. Proj
 ekat uključuje prezentacije\, javne događaje i promotivne aktivnosti. Real
 izacijom projekta doprinosi se promociji razvoja urbanih sistema i turisti
 čke ponude Kantona Sarajevo.
TRANSP:OPAQUE
BEGIN:VALARM
UID:62373265-3431-4431-a162-333734653135
ACTION:DISPLAY
DESCRIPTION:<p>Projekat obilježavanja 130 godina gradske infrastrukture ukl
 jučuje promotivne i edukativne aktivnosti vezane za razvoj gradskih sistem
 a. Projekat uključuje prezentacije\, javne događaje i promotivne aktivnost
 i. Realizacijom projekta doprinosi se promociji razvoja urbanih sistema i 
 turističke ponude Kantona Sarajevo.</p>
DURATION:P311Y10M
REPEAT:2
TRIGGER:-P5DT4H44M
END:VALARM
END:VEVENT
END:VCALENDAR
