BEGIN:VCALENDAR
VERSION:2.0
PRODID:-//https://mp.ks.gov.ba//NONSGML iCalcreator 2.41.92//
CALSCALE:GREGORIAN
METHOD:PUBLISH
UID:39326630-6165-4230-a332-656563353462
X-WR-RELCALID:node-7483-field_period
X-WR-TIMEZONE:Europe/Sarajevo
X-WR-CALNAME:Sarajevo International Business Fair – 100 EXPO
BEGIN:VTIMEZONE
TZID:Europe/Sarajevo
TZUNTIL:20281029T010000Z
BEGIN:STANDARD
TZNAME:CET
DTSTART:20251026T030000
TZOFFSETFROM:+0200
TZOFFSETTO:+0100
RDATE:20261025T030000
RDATE:20271031T030000
END:STANDARD
BEGIN:DAYLIGHT
TZNAME:CEST
DTSTART:20260329T020000
TZOFFSETFROM:+0100
TZOFFSETTO:+0200
RDATE:20270328T020000
RDATE:20280326T020000
END:DAYLIGHT
END:VTIMEZONE
BEGIN:VEVENT
UID:38313666-6635-4334-a339-376536316238
DTSTAMP:20260423T104122Z
CLASS:PUBLIC
CREATED:20260220T090225Z
DESCRIPTION:<p>Sarajevo International Business Fair je međunarodni poslovni
  događaj koji promoviše kompanije i poslovne potencijale. Projekat uključu
 je izložbeni dio i poslovne susrete. Realizacijom događaja doprinosi se in
 ternacionalizaciji poslovanja i promociji privrede Kantona Sarajevo.</p>
DTSTART;VALUE=DATE:20261019
DTEND;VALUE=DATE:20261021
LAST-MODIFIED:20260220T090225Z
SUMMARY:Sarajevo International Business Fair je međunarodni poslovni događa
 j koji promoviše kompanije i poslovne potencijale. Projekat uključuje izlo
 žbeni dio i poslovne susrete. Realizacijom događaja doprinosi se internaci
 onalizaciji poslovanja i promociji privrede Kantona Sarajevo.
TRANSP:OPAQUE
BEGIN:VALARM
UID:38393630-6337-4863-a561-376137643938
ACTION:DISPLAY
DESCRIPTION:<p>Sarajevo International Business Fair je međunarodni poslovni
  događaj koji promoviše kompanije i poslovne potencijale. Projekat uključu
 je izložbeni dio i poslovne susrete. Realizacijom događaja doprinosi se in
 ternacionalizaciji poslovanja i promociji privrede Kantona Sarajevo.</p>
DURATION:P311Y10M
REPEAT:2
TRIGGER:-P5DT4H43M
END:VALARM
END:VEVENT
END:VCALENDAR
