BEGIN:VCALENDAR
VERSION:2.0
PRODID:-//https://mp.ks.gov.ba//NONSGML iCalcreator 2.41.92//
CALSCALE:GREGORIAN
METHOD:PUBLISH
UID:31616636-3365-4266-b863-353361353166
X-WR-RELCALID:node-7480-field_period
X-WR-TIMEZONE:Europe/Sarajevo
X-WR-CALNAME:Sarajevo 4 Walls – Sajam namještaja
BEGIN:VTIMEZONE
TZID:Europe/Sarajevo
TZUNTIL:20271031T010000Z
BEGIN:STANDARD
TZNAME:CET
DTSTART:20251026T030000
TZOFFSETFROM:+0200
TZOFFSETTO:+0100
RDATE:20261025T030000
END:STANDARD
BEGIN:DAYLIGHT
TZNAME:CEST
DTSTART:20260329T020000
TZOFFSETFROM:+0100
TZOFFSETTO:+0200
RDATE:20270328T020000
END:DAYLIGHT
END:VTIMEZONE
BEGIN:VEVENT
UID:62373733-6237-4264-a335-643964366166
DTSTAMP:20260423T014515Z
CLASS:PUBLIC
CREATED:20260220T085034Z
DESCRIPTION:<p>Sarajevo 4 Walls je međunarodni sajam namještaja i prateće i
 ndustrije. Projekat uključuje izložbeni prostor\, prezentacije kompanija i
  poslovne susrete. Realizacijom sajma doprinosi se razvoju drvne i proizvo
 dne industrije i promociji kompanija iz Kantona Sarajevo.</p>
DTSTART;VALUE=DATE:20260415
DTEND;VALUE=DATE:20260419
LAST-MODIFIED:20260220T085034Z
SUMMARY:Sarajevo 4 Walls je međunarodni sajam namještaja i prateće industri
 je. Projekat uključuje izložbeni prostor\, prezentacije kompanija i poslov
 ne susrete. Realizacijom sajma doprinosi se razvoju drvne i proizvodne ind
 ustrije i promociji kompanija iz Kantona Sarajevo.
TRANSP:OPAQUE
BEGIN:VALARM
UID:66323461-3061-4434-b833-613736336265
ACTION:DISPLAY
DESCRIPTION:<p>Sarajevo 4 Walls je međunarodni sajam namještaja i prateće i
 ndustrije. Projekat uključuje izložbeni prostor\, prezentacije kompanija i
  poslovne susrete. Realizacijom sajma doprinosi se razvoju drvne i proizvo
 dne industrije i promociji kompanija iz Kantona Sarajevo.</p>
DURATION:P311Y8M
REPEAT:2
TRIGGER:-P5DT4H40M
END:VALARM
END:VEVENT
END:VCALENDAR
