BEGIN:VCALENDAR
VERSION:2.0
PRODID:-//https://mp.ks.gov.ba//NONSGML iCalcreator 2.41.92//
CALSCALE:GREGORIAN
METHOD:PUBLISH
UID:30323966-3761-4636-b437-316137383966
X-WR-RELCALID:node-7479-field_period
X-WR-TIMEZONE:Europe/Sarajevo
X-WR-CALNAME:WOMEN 100 – Shop & Show Expo
BEGIN:VTIMEZONE
TZID:Europe/Sarajevo
TZUNTIL:20280326T010000Z
BEGIN:STANDARD
TZNAME:CET
DTSTART:20251026T030000
TZOFFSETFROM:+0200
TZOFFSETTO:+0100
RDATE:20261025T030000
RDATE:20271031T030000
END:STANDARD
BEGIN:DAYLIGHT
TZNAME:CEST
DTSTART:20260329T020000
TZOFFSETFROM:+0100
TZOFFSETTO:+0200
RDATE:20270328T020000
END:DAYLIGHT
END:VTIMEZONE
BEGIN:VEVENT
UID:30366261-6432-4265-b134-363861323736
DTSTAMP:20260423T104122Z
CLASS:PUBLIC
CREATED:20260220T084705Z
DESCRIPTION:<p>WOMEN 100 Expo je regionalni događaj posvećen promociji žens
 kog poduzetništva\, proizvoda i usluga. Projekat uključuje prodajni i prom
 otivni dio\, edukativne sadržaje i poslovno umrežavanje. Realizacijom doga
 đaja doprinosi se razvoju malih biznisa i poduzetničkih inicijativa u Kant
 onu Sarajevo.</p>
DTSTART;VALUE=DATE:20260528
DTEND;VALUE=DATE:20260531
LAST-MODIFIED:20260220T084705Z
SUMMARY:WOMEN 100 Expo je regionalni događaj posvećen promociji ženskog pod
 uzetništva\, proizvoda i usluga. Projekat uključuje prodajni i promotivni 
 dio\, edukativne sadržaje i poslovno umrežavanje. Realizacijom događaja do
 prinosi se razvoju malih biznisa i poduzetničkih inicijativa u Kantonu Sar
 ajevo.
TRANSP:OPAQUE
BEGIN:VALARM
UID:66306234-6262-4236-b236-663439633430
ACTION:DISPLAY
DESCRIPTION:<p>WOMEN 100 Expo je regionalni događaj posvećen promociji žens
 kog poduzetništva\, proizvoda i usluga. Projekat uključuje prodajni i prom
 otivni dio\, edukativne sadržaje i poslovno umrežavanje. Realizacijom doga
 đaja doprinosi se razvoju malih biznisa i poduzetničkih inicijativa u Kant
 onu Sarajevo.</p>
DURATION:P311Y8M
REPEAT:2
TRIGGER:-P5DT4H39M
END:VALARM
END:VEVENT
END:VCALENDAR
