BEGIN:VCALENDAR
VERSION:2.0
PRODID:-//https://mp.ks.gov.ba//NONSGML iCalcreator 2.41.92//
CALSCALE:GREGORIAN
METHOD:PUBLISH
UID:62363363-3631-4030-b538-623430303035
X-WR-RELCALID:node-7478-field_period
X-WR-TIMEZONE:Europe/Sarajevo
X-WR-CALNAME:Tourism Expo Sarajevo
BEGIN:VTIMEZONE
TZID:Europe/Sarajevo
TZUNTIL:20281029T010000Z
BEGIN:STANDARD
TZNAME:CET
DTSTART:20251026T030000
TZOFFSETFROM:+0200
TZOFFSETTO:+0100
RDATE:20261025T030000
RDATE:20271031T030000
END:STANDARD
BEGIN:DAYLIGHT
TZNAME:CEST
DTSTART:20260329T020000
TZOFFSETFROM:+0100
TZOFFSETTO:+0200
RDATE:20270328T020000
RDATE:20280326T020000
END:DAYLIGHT
END:VTIMEZONE
BEGIN:VEVENT
UID:65663362-6330-4165-b431-656463663663
DTSTAMP:20260423T104123Z
CLASS:PUBLIC
CREATED:20260220T084242Z
DESCRIPTION:<p>Tourism Expo Sarajevo je međunarodni sajam turizma koji prom
 oviše turističke potencijale\, turističke usluge i destinacije. Projekat u
 ključuje izložbeni i promotivni dio\, prezentacije i poslovne susrete. Rea
 lizacijom događaja doprinosi se razvoju turističke privrede i promociji Ka
 ntona Sarajevo kao turističke i poslovne destinacije.</p>
DTSTART;VALUE=DATE:20261021
DTEND;VALUE=DATE:20261024
LAST-MODIFIED:20260220T084242Z
SUMMARY:Tourism Expo Sarajevo je međunarodni sajam turizma koji promoviše t
 urističke potencijale\, turističke usluge i destinacije. Projekat uključuj
 e izložbeni i promotivni dio\, prezentacije i poslovne susrete. Realizacij
 om događaja doprinosi se razvoju turističke privrede i promociji Kantona S
 arajevo kao turističke i poslovne destinacije.
TRANSP:OPAQUE
BEGIN:VALARM
UID:37633264-3966-4364-a531-373731616639
ACTION:DISPLAY
DESCRIPTION:<p>Tourism Expo Sarajevo je međunarodni sajam turizma koji prom
 oviše turističke potencijale\, turističke usluge i destinacije. Projekat u
 ključuje izložbeni i promotivni dio\, prezentacije i poslovne susrete. Rea
 lizacijom događaja doprinosi se razvoju turističke privrede i promociji Ka
 ntona Sarajevo kao turističke i poslovne destinacije.</p>
DURATION:P311Y7M
REPEAT:2
TRIGGER:-P5DT4H38M
END:VALARM
END:VEVENT
END:VCALENDAR
