BEGIN:VCALENDAR
VERSION:2.0
PRODID:-//https://mp.ks.gov.ba//NONSGML iCalcreator 2.41.92//
CALSCALE:GREGORIAN
METHOD:PUBLISH
UID:30313734-3932-4231-a339-663230316434
X-WR-RELCALID:node-7477-field_period
X-WR-TIMEZONE:Europe/Sarajevo
X-WR-CALNAME:100 EXPO – Sarajevo International Fair
BEGIN:VTIMEZONE
TZID:Europe/Sarajevo
TZUNTIL:20281029T010000Z
BEGIN:STANDARD
TZNAME:CET
DTSTART:20251026T030000
TZOFFSETFROM:+0200
TZOFFSETTO:+0100
RDATE:20261025T030000
RDATE:20271031T030000
END:STANDARD
BEGIN:DAYLIGHT
TZNAME:CEST
DTSTART:20260329T020000
TZOFFSETFROM:+0100
TZOFFSETTO:+0200
RDATE:20270328T020000
RDATE:20280326T020000
END:DAYLIGHT
END:VTIMEZONE
BEGIN:VEVENT
UID:36313566-6330-4832-a262-613237356336
DTSTAMP:20260423T104123Z
CLASS:PUBLIC
CREATED:20260220T081750Z
DESCRIPTION:<p>Social Media Summit je poslovni događaj posvećen razvoju dig
 italnog marketinga i savremenih komunikacijskih alata. Program uključuje p
 redavanja i prezentacije digitalnih trendova. Realizacijom događaja doprin
 osi se razvoju digitalne ekonomije i promociji poslovanja kompanija u Kant
 onu Sarajevo.</p>
DTSTART;VALUE=DATE:20261019
DTEND;VALUE=DATE:20261021
LAST-MODIFIED:20260220T082949Z
SUMMARY:Social Media Summit je poslovni događaj posvećen razvoju digitalnog
  marketinga i savremenih komunikacijskih alata. Program uključuje predavan
 ja i prezentacije digitalnih trendova. Realizacijom događaja doprinosi se 
 razvoju digitalne ekonomije i promociji poslovanja kompanija u Kantonu Sar
 ajevo.
TRANSP:OPAQUE
BEGIN:VALARM
UID:30633438-3034-4734-b362-666134353033
ACTION:DISPLAY
DESCRIPTION:<p>Social Media Summit je poslovni događaj posvećen razvoju dig
 italnog marketinga i savremenih komunikacijskih alata. Program uključuje p
 redavanja i prezentacije digitalnih trendova. Realizacijom događaja doprin
 osi se razvoju digitalne ekonomije i promociji poslovanja kompanija u Kant
 onu Sarajevo.</p>
DURATION:P311Y7M
REPEAT:2
TRIGGER:-P5DT4H37M
END:VALARM
END:VEVENT
END:VCALENDAR
