BEGIN:VCALENDAR
VERSION:2.0
PRODID:-//https://mp.ks.gov.ba//NONSGML iCalcreator 2.41.92//
CALSCALE:GREGORIAN
METHOD:PUBLISH
UID:38633564-3964-4634-b765-396633663533
X-WR-RELCALID:node-7476-field_period
X-WR-TIMEZONE:Europe/Sarajevo
X-WR-CALNAME:Social Media Summit
BEGIN:VTIMEZONE
TZID:Europe/Sarajevo
TZUNTIL:20280326T010000Z
BEGIN:STANDARD
TZNAME:CET
DTSTART:20251026T030000
TZOFFSETFROM:+0200
TZOFFSETTO:+0100
RDATE:20261025T030000
RDATE:20271031T030000
END:STANDARD
BEGIN:DAYLIGHT
TZNAME:CEST
DTSTART:20260329T020000
TZOFFSETFROM:+0100
TZOFFSETTO:+0200
RDATE:20270328T020000
END:DAYLIGHT
END:VTIMEZONE
BEGIN:VEVENT
UID:35326137-3130-4438-b734-303138303637
DTSTAMP:20260423T091253Z
CLASS:PUBLIC
CREATED:20260220T081043Z
DESCRIPTION:<p>Social Media Summit je poslovni događaj posvećen razvoju dig
 italnog marketinga i savremenih komunikacijskih alata. Program uključuje p
 redavanja i prezentacije digitalnih trendova. Realizacijom događaja doprin
 osi se razvoju digitalne ekonomije i promociji poslovanja kompanija u Kant
 onu Sarajevo.</p>
DTSTART;VALUE=DATE:20260521
DTEND;VALUE=DATE:20260522
LAST-MODIFIED:20260220T081043Z
SUMMARY:Social Media Summit je poslovni događaj posvećen razvoju digitalnog
  marketinga i savremenih komunikacijskih alata. Program uključuje predavan
 ja i prezentacije digitalnih trendova. Realizacijom događaja doprinosi se 
 razvoju digitalne ekonomije i promociji poslovanja kompanija u Kantonu Sar
 ajevo.
TRANSP:OPAQUE
BEGIN:VALARM
UID:37366162-6564-4238-b833-343434303731
ACTION:DISPLAY
DESCRIPTION:<p>Social Media Summit je poslovni događaj posvećen razvoju dig
 italnog marketinga i savremenih komunikacijskih alata. Program uključuje p
 redavanja i prezentacije digitalnih trendova. Realizacijom događaja doprin
 osi se razvoju digitalne ekonomije i promociji poslovanja kompanija u Kant
 onu Sarajevo.</p>
DURATION:P311Y6M
REPEAT:2
TRIGGER:-P5DT4H36M
END:VALARM
END:VEVENT
END:VCALENDAR
