BEGIN:VCALENDAR
VERSION:2.0
PRODID:-//https://mp.ks.gov.ba//NONSGML iCalcreator 2.41.92//
CALSCALE:GREGORIAN
METHOD:PUBLISH
UID:35343961-6163-4861-a231-326336306136
X-WR-RELCALID:node-7474-field_period
X-WR-TIMEZONE:Europe/Sarajevo
X-WR-CALNAME:Repex
BEGIN:VTIMEZONE
TZID:Europe/Sarajevo
TZUNTIL:20271031T010000Z
BEGIN:STANDARD
TZNAME:CET
DTSTART:20251026T030000
TZOFFSETFROM:+0200
TZOFFSETTO:+0100
RDATE:20261025T030000
END:STANDARD
BEGIN:DAYLIGHT
TZNAME:CEST
DTSTART:20260329T020000
TZOFFSETFROM:+0100
TZOFFSETTO:+0200
RDATE:20270328T020000
END:DAYLIGHT
END:VTIMEZONE
BEGIN:VEVENT
UID:38303532-3539-4966-b134-396131313436
DTSTAMP:20260423T014515Z
CLASS:PUBLIC
CREATED:20260220T075301Z
DESCRIPTION:<p>Repex je poslovno-sajamski događaj koji obuhvata izložbeni d
 io\, poslovne susrete i prezentaciju kompanija. Projekat omogućava predsta
 vljanje proizvoda i usluga i uspostavljanje poslovne saradnje. Realizacijo
 m događaja doprinosi se razvoju poslovne saradnje i promociji privrede Kan
 tona Sarajevo.</p>
DTSTART;VALUE=DATE:20260414
DTEND;VALUE=DATE:20260416
LAST-MODIFIED:20260220T075301Z
SUMMARY:Repex je poslovno-sajamski događaj koji obuhvata izložbeni dio\, po
 slovne susrete i prezentaciju kompanija. Projekat omogućava predstavljanje
  proizvoda i usluga i uspostavljanje poslovne saradnje. Realizacijom događ
 aja doprinosi se razvoju poslovne saradnje i promociji privrede Kantona Sa
 rajevo.
TRANSP:OPAQUE
BEGIN:VALARM
UID:35666430-6665-4536-b334-626139653733
ACTION:DISPLAY
DESCRIPTION:<p>Repex je poslovno-sajamski događaj koji obuhvata izložbeni d
 io\, poslovne susrete i prezentaciju kompanija. Projekat omogućava predsta
 vljanje proizvoda i usluga i uspostavljanje poslovne saradnje. Realizacijo
 m događaja doprinosi se razvoju poslovne saradnje i promociji privrede Kan
 tona Sarajevo.</p>
DURATION:P311Y5M
REPEAT:2
TRIGGER:-P5DT4H34M
END:VALARM
END:VEVENT
END:VCALENDAR
