BEGIN:VCALENDAR
VERSION:2.0
PRODID:-//https://mp.ks.gov.ba//NONSGML iCalcreator 2.41.92//
CALSCALE:GREGORIAN
METHOD:PUBLISH
UID:35633738-6530-4330-b363-646137316465
X-WR-RELCALID:node-7470-field_period
X-WR-TIMEZONE:Europe/Sarajevo
X-WR-CALNAME:Sarajevo Maker Faire
BEGIN:VTIMEZONE
TZID:Europe/Sarajevo
TZUNTIL:20280326T010000Z
BEGIN:STANDARD
TZNAME:CET
DTSTART:20251026T030000
TZOFFSETFROM:+0200
TZOFFSETTO:+0100
RDATE:20261025T030000
RDATE:20271031T030000
END:STANDARD
BEGIN:DAYLIGHT
TZNAME:CEST
DTSTART:20260329T020000
TZOFFSETFROM:+0100
TZOFFSETTO:+0200
RDATE:20270328T020000
END:DAYLIGHT
END:VTIMEZONE
BEGIN:VEVENT
UID:32373134-6263-4866-b231-616138626466
DTSTAMP:20260423T120536Z
CLASS:PUBLIC
CREATED:20260220T074216Z
DESCRIPTION:<p>Sarajevo Maker Faire je događaj koji promoviše inovacije\, n
 auku\, tehnologiju i kreativno stvaralaštvo kroz izložbeni i edukativni pr
 ogram. Događaj okuplja inovatore\, kompanije\, start-up zajednicu i obrazo
 vne institucije. Realizacijom događaja doprinosi se razvoju inovacijskog e
 kosistema\, promociji tehnoloških rješenja i jačanju inovacijskog potencij
 ala Kantona Sarajevo.</p>
DTSTART;VALUE=DATE:20260605
DTEND;VALUE=DATE:20260606
LAST-MODIFIED:20260220T074216Z
SUMMARY:Sarajevo Maker Faire je događaj koji promoviše inovacije\, nauku\, 
 tehnologiju i kreativno stvaralaštvo kroz izložbeni i edukativni program. 
 Događaj okuplja inovatore\, kompanije\, start-up zajednicu i obrazovne ins
 titucije. Realizacijom događaja doprinosi se razvoju inovacijskog ekosiste
 ma\, promociji tehnoloških rješenja i jačanju inovacijskog potencijala Kan
 tona Sarajevo.
TRANSP:OPAQUE
BEGIN:VALARM
UID:65303864-6564-4865-a461-663166626562
ACTION:DISPLAY
DESCRIPTION:<p>Sarajevo Maker Faire je događaj koji promoviše inovacije\, n
 auku\, tehnologiju i kreativno stvaralaštvo kroz izložbeni i edukativni pr
 ogram. Događaj okuplja inovatore\, kompanije\, start-up zajednicu i obrazo
 vne institucije. Realizacijom događaja doprinosi se razvoju inovacijskog e
 kosistema\, promociji tehnoloških rješenja i jačanju inovacijskog potencij
 ala Kantona Sarajevo.</p>
DURATION:P311Y3M
REPEAT:2
TRIGGER:-P5DT4H30M
END:VALARM
END:VEVENT
END:VCALENDAR
