BEGIN:VCALENDAR
VERSION:2.0
PRODID:-//https://mp.ks.gov.ba//NONSGML iCalcreator 2.41.92//
CALSCALE:GREGORIAN
METHOD:PUBLISH
UID:66636638-3233-4133-b133-373466343964
X-WR-RELCALID:node-7469-field_period
X-WR-TIMEZONE:Europe/Sarajevo
X-WR-CALNAME:DIH Forum
BEGIN:VTIMEZONE
TZID:Europe/Sarajevo
TZUNTIL:20281029T010000Z
BEGIN:STANDARD
TZNAME:CET
DTSTART:20251026T030000
TZOFFSETFROM:+0200
TZOFFSETTO:+0100
RDATE:20261025T030000
RDATE:20271031T030000
END:STANDARD
BEGIN:DAYLIGHT
TZNAME:CEST
DTSTART:20260329T020000
TZOFFSETFROM:+0100
TZOFFSETTO:+0200
RDATE:20270328T020000
RDATE:20280326T020000
END:DAYLIGHT
END:VTIMEZONE
BEGIN:VEVENT
UID:63313537-3565-4666-b564-666131643162
DTSTAMP:20260423T120536Z
CLASS:PUBLIC
CREATED:20260220T074021Z
DESCRIPTION:<p>DIH Forum je događaj koji okuplja predstavnike digitalnih in
 ovacijskih hubova\, kompanija i institucija sa ciljem razmjene znanja i is
 kustava u oblasti digitalne transformacije. Program uključuje prezentacije
  digitalnih rješenja\, primjera dobre prakse i umrežavanje učesnika. Reali
 zacijom događaja doprinosi se modernizaciji poslovanja\, razvoju tehnološk
 og sektora i jačanju konkurentnosti privrede Kantona Sarajevo.</p>
DTSTART;VALUE=DATE:20260929
DTEND;VALUE=DATE:20260930
LAST-MODIFIED:20260220T074021Z
SUMMARY:DIH Forum je događaj koji okuplja predstavnike digitalnih inovacijs
 kih hubova\, kompanija i institucija sa ciljem razmjene znanja i iskustava
  u oblasti digitalne transformacije. Program uključuje prezentacije digita
 lnih rješenja\, primjera dobre prakse i umrežavanje učesnika. Realizacijom
  događaja doprinosi se modernizaciji poslovanja\, razvoju tehnološkog sekt
 ora i jačanju konkurentnosti privrede Kantona Sarajevo.
TRANSP:OPAQUE
BEGIN:VALARM
UID:63363438-3932-4561-b262-646236373635
ACTION:DISPLAY
DESCRIPTION:<p>DIH Forum je događaj koji okuplja predstavnike digitalnih in
 ovacijskih hubova\, kompanija i institucija sa ciljem razmjene znanja i is
 kustava u oblasti digitalne transformacije. Program uključuje prezentacije
  digitalnih rješenja\, primjera dobre prakse i umrežavanje učesnika. Reali
 zacijom događaja doprinosi se modernizaciji poslovanja\, razvoju tehnološk
 og sektora i jačanju konkurentnosti privrede Kantona Sarajevo.</p>
DURATION:P311Y3M
REPEAT:2
TRIGGER:-P5DT4H29M
END:VALARM
END:VEVENT
END:VCALENDAR
