BEGIN:VCALENDAR
VERSION:2.0
PRODID:-//https://mp.ks.gov.ba//NONSGML iCalcreator 2.41.92//
CALSCALE:GREGORIAN
METHOD:PUBLISH
UID:33383439-6434-4639-b236-613238313666
X-WR-RELCALID:node-7468-field_period
X-WR-TIMEZONE:Europe/Sarajevo
X-WR-CALNAME:Futures Leaders Summit
BEGIN:VTIMEZONE
TZID:Europe/Sarajevo
TZUNTIL:20281029T010000Z
BEGIN:STANDARD
TZNAME:CET
DTSTART:20261025T030000
TZOFFSETFROM:+0200
TZOFFSETTO:+0100
RDATE:20271031T030000
END:STANDARD
BEGIN:DAYLIGHT
TZNAME:CEST
DTSTART:20260329T020000
TZOFFSETFROM:+0100
TZOFFSETTO:+0200
RDATE:20270328T020000
RDATE:20280326T020000
END:DAYLIGHT
END:VTIMEZONE
BEGIN:VEVENT
UID:34616139-6136-4530-a665-333031306565
DTSTAMP:20260423T073607Z
CLASS:PUBLIC
CREATED:20260220T065922Z
DESCRIPTION:<p>Futures Leaders Summit je međunarodni događaj usmjeren na ra
 zvoj mladih lidera\, inovatora i stručnjaka kroz edukativne i networking a
 ktivnosti. Program obuhvata predavanja\, radionice\, diskusije i susrete s
 a predstavnicima poslovnog i akademskog sektora. Realizacijom događaja dop
 rinosi se razvoju ljudskog kapitala\, jačanju kompetencija mladih kadrova 
 i povezivanju sa potrebama tržišta rada\, što dugoročno doprinosi razvoju 
 privrede Kantona Sarajevo.</p>
DTSTART;VALUE=DATE:20261217
DTEND;VALUE=DATE:20261220
LAST-MODIFIED:20260220T065922Z
SUMMARY:Futures Leaders Summit je međunarodni događaj usmjeren na razvoj ml
 adih lidera\, inovatora i stručnjaka kroz edukativne i networking aktivnos
 ti. Program obuhvata predavanja\, radionice\, diskusije i susrete sa preds
 tavnicima poslovnog i akademskog sektora. Realizacijom događaja doprinosi 
 se razvoju ljudskog kapitala\, jačanju kompetencija mladih kadrova i povez
 ivanju sa potrebama tržišta rada\, što dugoročno doprinosi razvoju privred
 e Kantona Sarajevo.
TRANSP:OPAQUE
BEGIN:VALARM
UID:62633036-6134-4962-b835-363935363138
ACTION:DISPLAY
DESCRIPTION:<p>Futures Leaders Summit je međunarodni događaj usmjeren na ra
 zvoj mladih lidera\, inovatora i stručnjaka kroz edukativne i networking a
 ktivnosti. Program obuhvata predavanja\, radionice\, diskusije i susrete s
 a predstavnicima poslovnog i akademskog sektora. Realizacijom događaja dop
 rinosi se razvoju ljudskog kapitala\, jačanju kompetencija mladih kadrova 
 i povezivanju sa potrebama tržišta rada\, što dugoročno doprinosi razvoju 
 privrede Kantona Sarajevo.</p>
DURATION:P311Y2M
REPEAT:2
TRIGGER:-P5DT4H28M
END:VALARM
END:VEVENT
END:VCALENDAR
