BEGIN:VCALENDAR
VERSION:2.0
PRODID:-//https://mp.ks.gov.ba//NONSGML iCalcreator 2.41.92//
CALSCALE:GREGORIAN
METHOD:PUBLISH
UID:31383833-3534-4933-b739-313364373061
X-WR-RELCALID:node-7466-field_period
X-WR-TIMEZONE:Europe/Sarajevo
X-WR-CALNAME:Trening za javni nastup
BEGIN:VTIMEZONE
TZID:Europe/Sarajevo
TZUNTIL:20271031T010000Z
BEGIN:STANDARD
TZNAME:CET
DTSTART:20251026T030000
TZOFFSETFROM:+0200
TZOFFSETTO:+0100
RDATE:20261025T030000
END:STANDARD
BEGIN:DAYLIGHT
TZNAME:CEST
DTSTART:20260329T020000
TZOFFSETFROM:+0100
TZOFFSETTO:+0200
RDATE:20270328T020000
END:DAYLIGHT
END:VTIMEZONE
BEGIN:VEVENT
UID:34326135-6434-4233-b135-306464616632
DTSTAMP:20260423T030319Z
CLASS:PUBLIC
CREATED:20260220T065220Z
DESCRIPTION:<p>Ovaj projekat je važan jer direktno doprinosi razvoju poslov
 nih vještina koje su ključne za savremeno tržište rada i poslovno okruženj
 e. U današnjim uslovima poslovanja\, sposobnost jasnog predstavljanja idej
 a\, proizvoda i poslovnih vizija predstavlja značajan faktor konkurentnost
 i privrednih subjekata.</p><p>Kroz razvoj vještina strateškog komuniciranj
 a i javnog nastupa\, poduzetnicima i profesionalcima se omogućava kvalitet
 nije predstavljanje prema partnerima\, investitorima i tržištu\, što dopri
 nosi jačanju poslovnih rezultata i mogućnosti rasta. Projekat dodatno dopr
 inosi jačanju umrežavanja među učesnicima\, razmjeni znanja i iskustava\, 
 te unapređenju poslovne saradnje.</p><p>Realizacijom ovakvih aktivnosti ja
 ča se vidljivost i profesionalni imidž poduzetnika iz Kantona Sarajevo\, t
 e se promoviše Kanton Sarajevo kao sredina koja sistemski ulaže u razvoj z
 nanja\, inovacija i savremenih poslovnih kompetencija\, što predstavlja va
 žan segment razvoja konkurentne i održive privrede.</p>
DTSTART;VALUE=DATE:20260409
DTEND;VALUE=DATE:20260430
LAST-MODIFIED:20260220T065220Z
SUMMARY:Ovaj projekat je važan jer direktno doprinosi razvoju poslovnih vje
 ština koje su ključne za savremeno tržište rada i poslovno okruženje. U da
 našnjim uslovima poslovanja\, sposobnost jasnog predstavljanja ideja\, pro
 izvoda i poslovnih vizija predstavlja značajan faktor konkurentnosti privr
 ednih subjekata.Kroz razvoj vještina strateškog komuniciranja i javnog nas
 tupa\, poduzetnicima i profesionalcima se omogućava kvalitetnije predstavl
 janje prema partnerima\, investitorima i tržištu\, što doprinosi jačanju p
 oslovnih rezultata i mogućnosti rasta. Projekat dodatno doprinosi jačanju 
 umrežavanja među učesnicima\, razmjeni znanja i iskustava\, te unapređenju
  poslovne saradnje.Realizacijom ovakvih aktivnosti jača se vidljivost i pr
 ofesionalni imidž poduzetnika iz Kantona Sarajevo\, te se promoviše Kanton
  Sarajevo kao sredina koja sistemski ulaže u razvoj znanja\, inovacija i s
 avremenih poslovnih kompetencija\, što predstavlja važan segment razvoja k
 onkurentne i održive privrede.
TRANSP:OPAQUE
BEGIN:VALARM
UID:32353564-6234-4435-b162-303036393933
ACTION:DISPLAY
DESCRIPTION:<p>Ovaj projekat je važan jer direktno doprinosi razvoju poslov
 nih vještina koje su ključne za savremeno tržište rada i poslovno okruženj
 e. U današnjim uslovima poslovanja\, sposobnost jasnog predstavljanja idej
 a\, proizvoda i poslovnih vizija predstavlja značajan faktor konkurentnost
 i privrednih subjekata.</p><p>Kroz razvoj vještina strateškog komuniciranj
 a i javnog nastupa\, poduzetnicima i profesionalcima se omogućava kvalitet
 nije predstavljanje prema partnerima\, investitorima i tržištu\, što dopri
 nosi jačanju poslovnih rezultata i mogućnosti rasta. Projekat dodatno dopr
 inosi jačanju umrežavanja među učesnicima\, razmjeni znanja i iskustava\, 
 te unapređenju poslovne saradnje.</p><p>Realizacijom ovakvih aktivnosti ja
 ča se vidljivost i profesionalni imidž poduzetnika iz Kantona Sarajevo\, t
 e se promoviše Kanton Sarajevo kao sredina koja sistemski ulaže u razvoj z
 nanja\, inovacija i savremenih poslovnih kompetencija\, što predstavlja va
 žan segment razvoja konkurentne i održive privrede.</p>
DURATION:P311Y1M
REPEAT:2
TRIGGER:-P5DT4H26M
END:VALARM
END:VEVENT
END:VCALENDAR
